BEGIN:VCALENDAR
PRODID://WordPress//Event-Post-V5.9.2//EN
VERSION:2.0
BEGIN:VTIMEZONE
TZID:Europe/Warsaw
BEGIN:DAYLIGHT
TZOFFSETFROM:+0100
TZOFFSETTO:+0200
DTSTART:19700329T020000
RRULE:FREQ=YEARLY;BYDAY=-1SU;BYMONTH=3
END:DAYLIGHT
BEGIN:STANDARD
TZOFFSETFROM:+0200
TZOFFSETTO:+0100
TZNAME:CET
DTSTART:19701025T030000
RRULE:FREQ=YEARLY;BYDAY=-1SU;BYMONTH=10
END:STANDARD
END:VTIMEZONE
BEGIN:VEVENT
SUMMARY:Singing Europe – Belgien und Polen
UID:https://instytutpolski.pl/berlin/2026/04/22/singing-europe-belgien-und-polen/
LOCATION:
DTSTAMP:20260528
DTSTART;TZID=Europe/Warsaw:20260528
DTEND;TZID=Europe/Warsaw:20260528
DESCRIPTION: 
Sichern Sie sich Ihren Platz! Die Registrierung endet am Mittwoch, 27. Mai
2026, 12:00: Anmeldung
Ort: Europäisches Haus, Unter den Linden 78, 10117 Berlin, Deutschland
Sprachen: Mehrere Sprachen
Wir stimmen uns ein auf ein klangliches Erlebnis quer durch Europa. Nach
vier erfolgreichen Events zu Schweden und Frankreich, Irland und Italien,
Dänemark und Spanien sowie Österreich und Albanien laden wir Sie herzlich
ein zum fünften gemeinsamen Singen im Europäischen Haus am Brandenburger
Tor. Dieses Mal erkunden wir Belgien und Polen.
Wann? Donnerstag, 28. Mai 2026, 18-19:30 Uhr (Einlass ab 17:30 Uhr)
Wo?      Vertretung der Europäischen Kommission in Deutschland,
Unter den Linden 78, 10117 Berlin
Und keine Angst. Sie müssen nicht singen können. Wir sind eine bunt
durchgemischte Gruppe an singbegeisterten Menschen, die die EU und unser
Haus auf eine andere Art kennenlernen möchten.
You are not alone
Geleitet wird der bunt durchgemischte Chor von zwei erfahrenen
Gesangspädagogen. Musikalisch umrahmt durch das Ensemble Europakzent
(Klavier, Bass, Schlagzeug, Gesang) und unterstützt durch zwei
muttersprachliche Sängerinnen wandern wir auf den singenden Pfaden von
Europa. Trauen Sie sich. Wir freuen uns auf ein gemeinsames Singen
bekannter Lieder aus Belgien und Polen.
Bitte bringen Sie Ihren Personalausweis für die Einlasskontrolle mit.
END:VEVENT
END:VCALENDAR