BEGIN:VCALENDAR
PRODID://WordPress//Event-Post-V5.9.2//EN
VERSION:2.0
BEGIN:VTIMEZONE
TZID:Europe/Warsaw
BEGIN:DAYLIGHT
TZOFFSETFROM:+0100
TZOFFSETTO:+0200
DTSTART:19700329T020000
RRULE:FREQ=YEARLY;BYDAY=-1SU;BYMONTH=3
END:DAYLIGHT
BEGIN:STANDARD
TZOFFSETFROM:+0200
TZOFFSETTO:+0100
TZNAME:CET
DTSTART:19701025T030000
RRULE:FREQ=YEARLY;BYDAY=-1SU;BYMONTH=10
END:STANDARD
END:VTIMEZONE
BEGIN:VEVENT
SUMMARY:Festival Clashing Classics. Multilingualism on stage. Zweite Edition
UID:https://instytutpolski.pl/berlin/2026/04/24/festival-clashing-classics-multilingualism-on-stage-zweite-edition/
LOCATION:
DTSTAMP:20260528
DTSTART;TZID=Europe/Warsaw:20260528
DTEND;TZID=Europe/Warsaw:20260529
DESCRIPTION:Tiresias Never Made It To New YorkMonika Dobrowlanska/ Catherine Annis/
Paolo Bignamini
Sprache Deutsch, Englisch, Italienisch, Französisch, mit deutschen
Übertiteln, geeignet für Personen mit Hörbehinderung
Eine Koproduktion von multicultural city e.V. (Berlin), Association au
Chapeau Rouge (Avignon), PACTA. dei Teatri (Mailand)
Das Stück behandelt auf tiefgründige und humorvolle Weise Themen wie
Identität, Sinnsuche und das Streben nach einem besseren Leben in einer
absurden Welt. Inspiriert von T. S. Eliots „The Waste Land” verbindet
die Aufführung mithilfe moderner Streamingtechnik drei Bühnen in Berlin,
Avignon und Mailand.
Die Handlung spielt in einem imaginären Theater, das als Notunterkunft
dient. Teiresias, eine mythologische Figur, lebt und arbeitet dort aufgrund
der schwierigen Wohnsituation in Berlin als Sicherheitskraft. Mithilfe von
ChatGPT plant er eine Reise nach New York, muss aber schnell erkennen, dass
er dort in viele Schwierigkeiten geraten könnte… Der Einsatz von
Hologrammen spiegelt die Verwischung der Grenzen zwischen Realität und
Fake wider. Parallele Geschichten von Minerva und Tom in Avignon sowie von
einer Schauspielerin und ihrem Assistenten in Mailand beleuchten die
Spannungen zwischen Kunst und Leben.
Nach der Aufführung am 29.05.2026 findet für eine kleine Gruppe von bis
zu 10 Zuschauern ein transnationales Publikumsgespräch mit Zuschauern aus
Avignon und Mailand statt. Die Sprache ist Deutsch mit
Simultanübersetzung.
Interessierte Zuschauer werden um Anmeldung unter info@multiculturalcity.eu
gebeten.
Info:
https://ackerstadtpalast.de/multiculatural-city-e-v-teiresias-never-made-it-to-new-york-2
Karten:
https://ackerstadtpalast.de/multiculatural-city-e-v-teiresias-never-made-it-to-new-york-2
Ort: Acker Stadt Palast Ackerstr. 169/170 10115 Berlin[Foto: Alex Lee,
Foto: Yukihiro Ilutani, copyright: multicultural city e.V.]
END:VEVENT
END:VCALENDAR