BEGIN:VCALENDAR
PRODID://WordPress//Event-Post-V5.9.2//EN
VERSION:2.0
BEGIN:VTIMEZONE
TZID:Europe/Warsaw
BEGIN:DAYLIGHT
TZOFFSETFROM:+0100
TZOFFSETTO:+0200
DTSTART:19700329T020000
RRULE:FREQ=YEARLY;BYDAY=-1SU;BYMONTH=3
END:DAYLIGHT
BEGIN:STANDARD
TZOFFSETFROM:+0200
TZOFFSETTO:+0100
TZNAME:CET
DTSTART:19701025T030000
RRULE:FREQ=YEARLY;BYDAY=-1SU;BYMONTH=10
END:STANDARD
END:VTIMEZONE
BEGIN:VEVENT
SUMMARY:Autorenabend mit Magdalena Parys
UID:https://instytutpolski.pl/berlin/2026/04/24/autorenabend-mit-magdalena-parys/
LOCATION:
DTSTAMP:20260519
DTSTART;TZID=Europe/Warsaw:20260519
DTEND;TZID=Europe/Warsaw:20260519
DESCRIPTION:Die Polnisches Institut Berlin lädt in Kooperation mit Partnern zu einem
zweisprachigen Autorenabend mit der renommierten Schriftstellerin Magdalena
Parys ein. Die vielfach ausgezeichnete Autorin, deren Werke in zahlreiche
Sprachen übersetzt wurden, gehört zu den wichtigsten Stimmen der
zeitgenössischen polnisch-deutschen Literatur.
Im Mittelpunkt des Abends stehen zwei Romane: „Floren“, der jüngst in
Polen als Abschluss der Berliner Trilogie erschienen ist, sowie „Der
Prinz“, der zweite Band der Reihe in deutscher Ausgabe. Ausgehend von
diesen Büchern spricht die Autorin über zentrale Themen ihres Schaffens
– Geschichte, Erinnerung und Identität – und gibt Einblicke in ihre
literarische Arbeit. Das Publikum ist eingeladen, sich aktiv am Gespräch
zu beteiligen. Im Anschluss besteht die Möglichkeit zum persönlichen
Austausch mit der Autorin.
Die Veranstaltung findet in polnischer und deutscher Sprache statt und
versteht sich als Beitrag zum interkulturellen Dialog.
Zur AutorinMagdalena Parys wurde 1971 in Danzig geboren und lebt seit ihrer
Kindheit in Berlin. Sie studierte Polonistik und Pädagogik an der
Humboldt-Universität zu Berlin. Ihr literarisches Debüt „Tunnel“
wurde vielfach ausgezeichnet. Internationale Anerkennung erhielt sie für
den Roman „Magik“, der mit dem Europäischen Literaturpreis prämiert
wurde. Mit „Floren“ legt sie den dritten Teil ihrer Berliner Trilogie
vor, in der sie sich mit europäischer Geschichte und Fragen von Identität
auseinandersetzt.
Moderation: Natalia Prüfer (Journalistin und Kulturvermittlerin) sowie
Markus Schnabel (Polente Verlag)Begrüßung: Marzena Kępowicz (Konsulin
der Republik Polen in Berlin und Leiterin der Konsularabteilung)
AnmeldungAnmeldung bis zum 09.05.2026 erforderlich:
networking@polkiwberlinie.de
Die Teilnahme ist ausschließlich nach vorheriger Registrierung möglich.
Aus Sicherheitsgründen erhalten alle angemeldeten Personen vor der
Veranstaltung einen individuellen QR-Code für den Zutritt zur Botschaft.
Bitte melden Sie jede Person einzeln an.Ort: Botschaft der Republik Polen
in Berlin, Unter den Linden 70, 10117 BerlinEinlass: ab 18:00 UhrSprache:
Deutsch / PolnischEintritt: frei, Anmeldung erforderlich
Veranstalter und PartnerVeranstaltet von Polki w Berlinie e.V. und Polente
VerlagIn Kooperation mit dem Polnisches Institut Berlin
Medienpartner: COSMO po polsku
END:VEVENT
END:VCALENDAR