BEGIN:VCALENDAR
PRODID://WordPress//Event-Post-V5.9.2//EN
VERSION:2.0
BEGIN:VTIMEZONE
TZID:Europe/Warsaw
BEGIN:DAYLIGHT
TZOFFSETFROM:+0100
TZOFFSETTO:+0200
DTSTART:19700329T020000
RRULE:FREQ=YEARLY;BYDAY=-1SU;BYMONTH=3
END:DAYLIGHT
BEGIN:STANDARD
TZOFFSETFROM:+0200
TZOFFSETTO:+0100
TZNAME:CET
DTSTART:19701025T030000
RRULE:FREQ=YEARLY;BYDAY=-1SU;BYMONTH=10
END:STANDARD
END:VTIMEZONE
BEGIN:VEVENT
SUMMARY:Danton | Deň poľsko-francúzskeho priateľstva
UID:https://instytutpolski.pl/bratislava/2026/04/02/danton-den-polsko-francuzskeho-priatelstva/
LOCATION:
DTSTAMP:20260420
DTSTART;TZID=Europe/Warsaw:20260420
DTEND;TZID=Europe/Warsaw:20260420
DESCRIPTION:Podujatie zároveň nadväzuje na Rok Andrzeja Wajdu a pripomína tvorbu
jedného z najvýznamnejších poľských režisérov, ktorý výrazne
pôsobil aj vo Francúzsku. Historická dráma Danton (1983), nakrútená
vo francúzskej produkcii, sa odohráva počas Veľkej francúzskej
revolúcie a zobrazuje konflikt medzi Georgesom Dantonom a Maximilienom
Robespierrom. Film je silnou výpoveďou o moci, ideáloch a ich zneužití
a zároveň patrí k najvýznamnejším dielam Andrzeja Wajdu natočeným
mimo Poľska. Snímka získala viacero medzinárodných ocenení, okrem
iného cenu BAFTA za najlepší neanglicky hovorený film (1984).
20. 4. / 17:30 Bratislava, Edison Filmhub, Baštová 6
END:VEVENT
END:VCALENDAR