BEGIN:VCALENDAR
PRODID://WordPress//Event-Post-V5.9.2//EN
VERSION:2.0
BEGIN:VTIMEZONE
TZID:Europe/Warsaw
BEGIN:DAYLIGHT
TZOFFSETFROM:+0100
TZOFFSETTO:+0200
DTSTART:19700329T020000
RRULE:FREQ=YEARLY;BYDAY=-1SU;BYMONTH=3
END:DAYLIGHT
BEGIN:STANDARD
TZOFFSETFROM:+0200
TZOFFSETTO:+0100
TZNAME:CET
DTSTART:19701025T030000
RRULE:FREQ=YEARLY;BYDAY=-1SU;BYMONTH=10
END:STANDARD
END:VTIMEZONE
BEGIN:VEVENT
SUMMARY:Danton | Dzień Przyjaźni Polsko-Francuskiej
UID:https://instytutpolski.pl/bratislava/pl/2026/04/02/danton-dzien-przyjazni-polsko-francuskiej/
LOCATION:
DTSTAMP:20260420
DTSTART;TZID=Europe/Warsaw:20260420
DTEND;TZID=Europe/Warsaw:20260420
DESCRIPTION:Wydarzenie nawiązuje również do Roku Andrzeja Wajdy i przypomina
twórczość jednego z najwybitniejszych polskich reżyserów, który
odegrał znaczącą rolę również we Francji. Dramat historyczny Danton
(1983), nakręcony w ramach francuskiej produkcji, rozgrywa się w czasie
Wielkiej Rewolucji Francuskiej i przedstawia konflikt między Georgesem
Dantonem a Maximilienem Robespierrem. Film jest mocnym świadectwem o
władzy, ideałach i ich nadużywaniu, a jednocześnie należy do
najważniejszych dzieł Andrzeja Wajdy nakręconych poza Polską. Obraz
zdobył wiele międzynarodowych nagród, między innymi nagrodę BAFTA dla
najlepszego filmu nieanglojęzycznego (1984).
20 kwietnia / 17:30 Bratysława, Edison Filmhub, Baštová 6
END:VEVENT
END:VCALENDAR