BEGIN:VCALENDAR
PRODID://WordPress//Event-Post-V5.9.2//EN
VERSION:2.0
BEGIN:VTIMEZONE
TZID:Europe/Warsaw
BEGIN:DAYLIGHT
TZOFFSETFROM:+0100
TZOFFSETTO:+0200
DTSTART:19700329T020000
RRULE:FREQ=YEARLY;BYDAY=-1SU;BYMONTH=3
END:DAYLIGHT
BEGIN:STANDARD
TZOFFSETFROM:+0200
TZOFFSETTO:+0100
TZNAME:CET
DTSTART:19701025T030000
RRULE:FREQ=YEARLY;BYDAY=-1SU;BYMONTH=10
END:STANDARD
END:VTIMEZONE
BEGIN:VEVENT
SUMMARY:De Zilele Sfântu Gheorghe Polonia vine în Covasna
UID:https://instytutpolski.pl/bucuresti/2026/04/16/de-zilele-sfantu-gheorghe-polonia-vine-in-covasna/
LOCATION:
DTSTAMP:20260422
DTSTART;TZID=Europe/Warsaw:20260422
DTEND;TZID=Europe/Warsaw:20260510
DESCRIPTION:„Space - Directions” este o expoziție realizată de Magdalena Kasprzak
și Natalia Brzezińska, ambele afiliate la Universitatea de Arte
"Magdalena Abakanowicz" din Poznań (UAP).
Expoziția abordează ideea unei lumi care își pierde treptat
stabilitatea, atât la nivel fizic, cât și în modul în care este
percepută. Lucrările reunesc teme precum mișcarea, migrația și
schimbările climatice, dar și reflecții asupra unor forme de spațiu
care depășesc experiența directă a omului.
Sunt prezentate diferite moduri de a vedea și înțelege realitatea. Unele
picturi arată peisaje văzute de sus, iar altele includ figuri aflate în
mișcare, surprinse între zone cunoscute și necunoscute. Ideea de
deplasare apare constant, atât în imagini inspirate din peisaje reale,
cât și în lucrări care fac trimitere la spațiul cosmic. În ambele
cazuri, spațiul devine mai puțin clar și mai greu de definit.
Lucrările nu redau realitatea în mod direct, ci o prezintă filtrată și
transformată. Prin suprapuneri, gesturi picturale și relații între
forme, imaginile sunt construite treptat și rămân deschise
interpretării. Apare astfel o tensiune între dorința de ordine și
pierderea acesteia, între orientare și dezorientare.
Expoziția propune o viziune asupra realității ca un continuum în care
elementele cosmice și cele terestre se intersectează, oferind o
perspectivă comună asupra existenței și a locului omului în lume.
END:VEVENT
END:VCALENDAR