BEGIN:VCALENDAR
PRODID://WordPress//Event-Post-V5.9.2//EN
VERSION:2.0
BEGIN:VTIMEZONE
TZID:Europe/Warsaw
BEGIN:DAYLIGHT
TZOFFSETFROM:+0100
TZOFFSETTO:+0200
DTSTART:19700329T020000
RRULE:FREQ=YEARLY;BYDAY=-1SU;BYMONTH=3
END:DAYLIGHT
BEGIN:STANDARD
TZOFFSETFROM:+0200
TZOFFSETTO:+0100
TZNAME:CET
DTSTART:19701025T030000
RRULE:FREQ=YEARLY;BYDAY=-1SU;BYMONTH=10
END:STANDARD
END:VTIMEZONE
BEGIN:VEVENT
SUMMARY:Ivan Vîrîpaev la București
UID:https://instytutpolski.pl/bucuresti/2026/04/20/ivan-viripaev-la-bucuresti/
LOCATION:
DTSTAMP:20260424T190000
DTSTART;TZID=Europe/Warsaw:20260424T190000
DTEND;TZID=Europe/Warsaw:20260425T200000
DESCRIPTION:Pe 24 și 25 aprilie, la #ARCUB, spectacolul semnat de dramaturgul și
regizorul polonez Ivan Vîrîpaev propune o experiență care nu se
privește de la distanță, ci se trăiește în timp real, ca un flux
continuu de gânduri, întrebări și revelații.
Cu o estetică aflată undeva între universurile lui Quentin Tarantino și
Andrei Tarkovski, spectacolul aduce pe scenă un limbaj contemporan în
care muzica electronică, grafica digitală și teatrul se întâlnesc
pentru a explora teme esențiale ale prezentului: identitatea, inteligența
artificială, iubirea, spiritualitatea și felul în care realitatea se
transformă sub ochii noștri.
„Mahamaya” - marea iluzie - devine aici un spațiu de reflecție. Un
loc în care actorii renunță la roluri și ne invită într-un dialog
direct, aproape impersonal, dar profund uman.
După reprezentația din 24 aprilie, vă invităm să rămâneți pentru
Artist to Artist, un dialog cu regizorul Radu Nica, despre teatrul
contemporan și lumea în care trăim.
Ivan Vîrîpaev este unul dintre cei mai importanți dramaturgi
contemporani, cu spectacole montate în peste 250 de teatre din întreaga
lume. Stabilit în Polonia, unde activează și ca director artistic al
fundației Teal House din Varșovia, Vîrîpaev este recunoscut pentru
stilul său care îmbină estetica cinematografică modernă cu o profundă
dimensiune spirituală. Lucrările sale, premiate la numeroase festivaluri
internaționale, explorează teme esențiale ale existenței și provoacă
constant publicul să reflecteze asupra lumii contemporane.
Cu: Stefani Elizaveta Burmakova, Mahib Gladstone, Cătălina Cazacu,
Philippe TłokińskiDurata: 60 min (fără pauză)Recomandat: 16+Spectacol
în limba engleză, cu supratitrare în limba română
24 &amp; 25 aprilie | 19:00
Biletele sunt disponibile pe arcub.ro
END:VEVENT
END:VCALENDAR