BEGIN:VCALENDAR
PRODID://WordPress//Event-Post-V5.9.2//EN
VERSION:2.0
BEGIN:VTIMEZONE
TZID:Europe/Warsaw
BEGIN:DAYLIGHT
TZOFFSETFROM:+0100
TZOFFSETTO:+0200
DTSTART:19700329T020000
RRULE:FREQ=YEARLY;BYDAY=-1SU;BYMONTH=3
END:DAYLIGHT
BEGIN:STANDARD
TZOFFSETFROM:+0200
TZOFFSETTO:+0100
TZNAME:CET
DTSTART:19701025T030000
RRULE:FREQ=YEARLY;BYDAY=-1SU;BYMONTH=10
END:STANDARD
END:VTIMEZONE
BEGIN:VEVENT
SUMMARY:Iwan Wyrypajew w Bukareszcie
UID:https://instytutpolski.pl/bucuresti/pl/2026/04/20/iwan-wyrypajew-w-bukareszcie/
LOCATION:
DTSTAMP:20260424T190000
DTSTART;TZID=Europe/Warsaw:20260424T190000
DTEND;TZID=Europe/Warsaw:20260425T200000
DESCRIPTION:Spektakl autorstwa polskiego dramaturga i reżysera Iwana Wyrypajewa
oferuje doświadczenie, którego nie ogląda się z dystansu, lecz
przeżywa na żywo, jako nieprzerwany strumień myśli, pytań i objawień.
Dzięki estetyce plasującej się gdzieś pomiędzy światami Quentina
Tarantino i Andrieja Tarkowskiego, spektakl wprowadza na scenę
współczesny język, w którym muzyka elektroniczna, grafika cyfrowa i
teatr spotykają się, by zgłębiać kluczowe tematy współczesności:
tożsamość, sztuczną inteligencję, miłość, duchowość oraz sposób,
w jaki rzeczywistość zmienia się na naszych oczach.
„Mahamaya” – wielka iluzja – staje się tutaj przestrzenią
refleksji. Miejscem, w którym aktorzy rezygnują z ról i zapraszają nas
do bezpośredniego, niemal osobistego, ale głęboko ludzkiego dialogu.
Po przedstawieniu 24 kwietnia zapraszamy do udziału w Artist to Artist,
rozmowie z reżyserem Radu Nicą o teatrze współczesnym i świecie, w
którym żyjemy.
Iwan Wyrypajew jest jednym z najważniejszych współczesnych dramaturgów.
Spektakle na podstawie jego sztuk wystawiane są w ponad 250 teatrach na
całym świecie. Mieszka w Polsce, gdzie pełni również funkcję
dyrektora artystycznego fundacji Teal House w Warszawie, Wyrypajew znany
jest ze swojego stylu łączącego nowoczesną estetykę filmową z
głębokim wymiarem duchowym. Jego dzieła, nagradzane na wielu
międzynarodowych festiwalach, zgłębiają istotne tematy egzystencji i
nieustannie skłaniają publiczność do refleksji nad współczesnym
światem.
Występują: Stefani Elizaveta Burmakova, Mahib Gladstone, Cătălina
Cazacu, Philippe Tłokiński
Czas trwania: 60 min (bez przerwy)
Zalecany wiek: 16+
Spektakl w języku angielskim z napisami w języku rumuńskim
24 &amp; 25 kwietnia | 19:00
Bilety są dostępne na stronie arcub.ro
END:VEVENT
END:VCALENDAR