BEGIN:VCALENDAR
PRODID://WordPress//Event-Post-V5.9.2//EN
VERSION:2.0
BEGIN:VTIMEZONE
TZID:Europe/Warsaw
BEGIN:DAYLIGHT
TZOFFSETFROM:+0100
TZOFFSETTO:+0200
DTSTART:19700329T020000
RRULE:FREQ=YEARLY;BYDAY=-1SU;BYMONTH=3
END:DAYLIGHT
BEGIN:STANDARD
TZOFFSETFROM:+0200
TZOFFSETTO:+0100
TZNAME:CET
DTSTART:19701025T030000
RRULE:FREQ=YEARLY;BYDAY=-1SU;BYMONTH=10
END:STANDARD
END:VTIMEZONE
BEGIN:VEVENT
SUMMARY:PesText Irodalmi Fesztivál 2026// Wojciech Tochman
UID:https://instytutpolski.pl/budapest/2026/04/20/pestext-irodalmi-fesztival-2026-wojciech-tochman/
LOCATION:
DTSTAMP:20260508T190000
DTSTART;TZID=Europe/Warsaw:20260508T190000
DTEND;TZID=Europe/Warsaw:20260508T190000
DESCRIPTION: Időpont: 2026. május 8. (péntek), 19:00 Helyszín: Három Holló
Wojciech Tochman Budapesten – a lengyel riportirodalom mestere a
PesTexten!
Az utóbbi évtizedekben a lengyel tényirodalom – vagyis a szépirodalmi
igényű riport – az egyik legizgalmasabb és legdinamikusabban fejlődő
műfajjá vált Európában. A legfontosabb alkotók továbbra is egy erős
hagyományhoz kapcsolódnak: a legendás lengyel riportiskolához.
Ennek az iskolának egyik kiemelkedő képviselője Wojciech Tochman, aki
most a PesText vendégeként Budapestre érkezik.
Wojciech Tochman pályája szorosan kapcsolódik a műfaj nagyjaihoz:–
Hanna Krall fedezte fel és hívta a Gazeta Wyborcza szerkesztőségébe–
Krall mestere pedig nem más volt, mint Ryszard Kapuściński, a modern
riportirodalom egyik legnagyobb alakja
Ez a szellemi örökség nemcsak hagyomány, hanem élő tudás:
generációk közötti párbeszéd, amely Wojciech Tochman munkáiban is
tovább él.
Írásai a világ legnehezebb történeteihez nyúlnak:– a társadalom
peremére szorult emberek sorsai– háborúk és traumák (Bosznia,
Ruanda, Kambodzsa)– az emlékezés és a feldolgozás lehetőségei
2026 tavaszán jelenik meg magyarul, a Kalligram Kiadó gondozásában,
Wojciech Tochman Mintha követ ennél című kötete, Danyi Gábor
fordításában. Az eredetileg 2002-ben megjelent könyv azóta számos
nyelven olvasható, és nemzetközi szinten is jelentős visszhangot
váltott ki. A kötet a dél-szláv háború lezáró szakaszát, a
boszniai népirtást és annak következményeit dolgozza fel a túlélők
nézőpontjából: megrendítő, visszafogott és mélyen emberi hangon, a
nagy történelmi narratívák helyett az egyéni sorsokra koncentrálva.
Miért érdemes eljönni?Mert ez nem „csak” egy irodalmi
beszélgetés.Ez találkozás egy olyan műfajjal, amely a valóságot
irodalommá formálja – és közben segít megérteni a körülöttünk
zajló világot.
A mai európai valóságban – amikor a szomszédunkban zajló háború
újra kollektív traumákat hoz létre – Wojciech Tochman szövegei
különösen aktuálissá válnak.
Az ő prózája nem dramatizál, nem túloz: rövid, kopogó mondatai
annál erősebben hatnak.
 Beszélgetőtárs: Danyi Gábor, a kötet magyar fordítója
 A program ingyenes
 A PesText nemcsak fesztivál, hanem találkozási pont: irodalom,
gondolatok, beszélgetések, könyvdedikálás, könyvvásárlási
lehetőség– és egy közösség, amelyet a világirodalom köt össze.
PesText 2026 tavasz május 8–9. // Három Holló • Petőfi Irodalmi
Múzeum • Gellért-hegyhttps://fb.me/e/4qbvXckxY
 Írd be a naptáradba, és hozd el a barátaidat is!Találkozzunk
tavasszal a PesTexten.
Szervezők: MISZJE, Petőfi Kulturális ÜgynökségFőtámogatók: Magyar
Kultúráért Alapítvány, Nemzeti Kulturális AlapKiemelt támogatók:
MNMKK, Petőfi Irodalmi Múzeum, Visegrad FundTámogató: Lengyel
IntézetPartner: Kalligram Kiadó
Merülj el a világirodalomban velünk!
END:VEVENT
END:VCALENDAR