BEGIN:VCALENDAR
PRODID://WordPress//Event-Post-V5.9.2//EN
VERSION:2.0
BEGIN:VTIMEZONE
TZID:Europe/Warsaw
BEGIN:DAYLIGHT
TZOFFSETFROM:+0100
TZOFFSETTO:+0200
DTSTART:19700329T020000
RRULE:FREQ=YEARLY;BYDAY=-1SU;BYMONTH=3
END:DAYLIGHT
BEGIN:STANDARD
TZOFFSETFROM:+0200
TZOFFSETTO:+0100
TZNAME:CET
DTSTART:19701025T030000
RRULE:FREQ=YEARLY;BYDAY=-1SU;BYMONTH=10
END:STANDARD
END:VTIMEZONE
BEGIN:VEVENT
SUMMARY:Színek, formák, kompozíciók - Illusztrációs workshop Agata Dudekkel
UID:https://instytutpolski.pl/budapest/2026/04/20/szinek-formak-kompoziciok-illusztracios-workshop-agata-dudekkel/
LOCATION:
DTSTAMP:20260507
DTSTART;TZID=Europe/Warsaw:20260507
DTEND;TZID=Europe/Warsaw:20260509
DESCRIPTION: Helyszín: PIM, Vörös terem Időpont: 2026. május 7-9.
A PesText Nemzetközi Irodalmi és Kulturális Fesztivál különleges
lehetőséget kínál a hazai közönség számára: Agata Dudek
háromnapos szakmai workshopján a résztvevők testközelből ismerhetik
meg grafikus-illusztrátor sajátos látásmódját, betekintést
nyerhetnek alkotói folyamataiba, együtt dolgozhatnak a kortárs lengyel
illusztráció egyik kiemelkedő, nemzetközileg is elismert alakjával.
A workshop célja a képi elbeszélés lehetőségeinek feltárása. A
haladó szakmai programra elsősorban tapasztalattal rendelkező
illusztrátorokat, képzőművészeket, egyetemi hallgatókat várunk.
Agata Dudek (1984) lengyel grafikus, illusztrátor. A Varsói
Képzőművészeti Akadémián tanult. Könyv- és sajtóillusztrációval,
plakát- és arculattervezéssel egyaránt foglalkozik. Małgorzata
Nowak-Żurekkel közösen alapította az Acapulco Studiót. A magyar
közönség az Archistoria, a Sziasztok, farkasok! és az Apa üvege című
könyvekben találkozhat az illusztrációival.
 Nyelv: lengyel, magyar tolmácsolással Max. létszám: 20 fő
A program ingyenes, de regisztrációhoz kötött!
 Mit kell hozni?Minden résztvevőnek magával kell hoznia az általa
kedvelt eszközöket, amelyekkel dolgozni szeretne.
Workshop időbeosztás:
 10:00 - 13:00 délelőtti szekció 13:00 - 14:30 ebédszünet 14:30 -
17:30 délutáni szekció
A workshop haladó szakmai program, ezért illusztrátorok,
képzőművészek és szakmai tapasztalattal rendelkezők jelentkezését
várjuk.
 Regisztráció menete: A részvételhez egy minimum három saját
alkotásból álló portfóliót kell beküldeni 2026. április 23-ig a
regisztracio@miszje.hu címre. A jelentkezők legkésőbb április 30-ig
kapnak visszajelzést. A végleges résztvevői listát szakmai zsűri
állítja össze.
Fontos: Mivel a programok egymásra épülnek, kérjük, hogy csak akkor
jelentkezz, ha mindhárom napon részt tudsz venni!
Ne maradj le! Küldd el a portfóliódat időben!
Várunk szeretettel!
Írd be a naptáradba, és ünnepeljük együtt a fesztivál zárását is!
A PesText fesztivált a lengyel Acapulco Studio „Sziasztok, színek!
Sziasztok, formák!” című kiállításával zárjuk, amely a kortárs
lengyel illusztráció egyik legizgalmasabb világát mutatja be.Vendég:
Agata Dudek, beszélgetés és tárlatvezetés.
 2026. május 9., 19 óra Petőfi Irodalmi MúzeumRészletek:
https://fb.me/e/7zCGuoLTp
A fesztivál zárásaként irodalom és vizuális művészet találkozik.
PesText szervezője: Magyar Irodalmi Szerzői Jogvédő és Jogkezelő
Egyesület (MISZJE) és a Petőfi Kulturális Ügynökség Nonprofit
Zrt.Főtámogató: Magyar Kultúráért Alapítvány, Nemzeti Kulturális
AlapKiemelt támogatók: MNMKK, Petőfi Irodalmi Múzeum, Visegrad
FundTámogatók: Lengyel Intézet, Kreatív EurópaPartnerek: Csirimojó
Kiadó
END:VEVENT
END:VCALENDAR