BEGIN:VCALENDAR
PRODID://WordPress//Event-Post-V5.9.2//EN
VERSION:2.0
BEGIN:VTIMEZONE
TZID:Europe/Warsaw
BEGIN:DAYLIGHT
TZOFFSETFROM:+0100
TZOFFSETTO:+0200
DTSTART:19700329T020000
RRULE:FREQ=YEARLY;BYDAY=-1SU;BYMONTH=3
END:DAYLIGHT
BEGIN:STANDARD
TZOFFSETFROM:+0200
TZOFFSETTO:+0100
TZNAME:CET
DTSTART:19701025T030000
RRULE:FREQ=YEARLY;BYDAY=-1SU;BYMONTH=10
END:STANDARD
END:VTIMEZONE
BEGIN:VEVENT
SUMMARY:Sziasztok, színek! Sziasztok, formák! Kortárs lengyel illusztrációs és könyvkiállítás megnyitó
UID:https://instytutpolski.pl/budapest/2026/04/20/sziasztok-szinek-sziasztok-formak-kortars-lengyel-illusztracios-es-konyvkiallitas-megnyito/
LOCATION:
DTSTAMP:20260509T190000
DTSTART;TZID=Europe/Warsaw:20260509T190000
DTEND;TZID=Europe/Warsaw:20260509T210000
DESCRIPTION:Helyszín: MNMKK Petőfi Irodalmi MúzeumPódiumbeszélgetés: 2026. május
9. (szombat), 19:00
A PesText Nemzetközi Irodalmi és Kulturális Fesztivált idén tavasszal
egy különleges vizuális élménnyel zárjuk: a lengyel Acapulco Studio
munkáiból készült kiállítással, amely Agata Dudek és Małgorzata
Nowak-Żurek karakteres, játékos és mégis rendkívül tudatos világát
hozza el Budapestre.
A „Sziasztok, színek! Sziasztok, formák!” című kiállítás a
kortárs lengyel illusztráció egyik legizgalmasabb műhelyének munkáit
mutatja be. Az Acapulco Studio alkotásai a plakátművészet
hagyományaira építenek, mégis frissek és modernek: letisztult,
geometrikus formavilágukat élénk, direkt színek teszik vibrálóvá. Az
Acapulco Studio 2012-ben alakult Varsóban, és mára az egyik legismertebb
lengyel grafikai és illusztrációs műhellyé vált. Könyveik és
vizuális projektjeik számos nemzetközi díjat nyertek (IBBY, PTWK, STGU,
Nami Concours), és világszerte jelen vannak.
 Munkáikban egyszerre van jelen:– a múlt és a jövő– a hagyomány
és az innováció– a felnőtt világ komolysága és a gyermeki
játékosság
A PesText fesztivál záróeseményén személyesen is találkozhatsz Agata
Dudekkel, a stúdió társalapítójával, aki a kortárs lengyel
illusztráció egyik meghatározó alakja. A kiemelt vendégünkkel Nagy
László, a Moholy-Nagy Művészeti Egyetem docense beszélget, majd
tárlatvezetés következik.
Helyszín: MNMKK Petőfi Irodalmi MúzeumPódiumbeszélgetés: 2026. május
9. (szombat), 19:00Moderátor: Nagy László, a MOME Illusztráció
szakirány vezetője
Kiállításmegnyitó: Agata Dudek - Acapulco StudioKurátor: Peťovská
Flóra, a Csirimojó művészeti igazgatójaIdőpont: 2026. május 9.
(szombat), 20:00
 A program ingyenes
 A program után lehetőség lesz könyvvásárlásra és dedikálásra is.
A kiállítás megtekinthető: 2026. május 9. – május 31.
PesText szervezője: Magyar Irodalmi Szerzői Jogvédő és Jogkezelő
Egyesület (MISZJE) és a Petőfi Kulturális Ügynökség Nonprofit
Zrt.Főtámogató: Magyar Kultúráért Alapítvány, Nemzeti Kulturális
AlapKiemelt támogatók: MNMKK, Petőfi Irodalmi Múzeum, Visegrad
FundTámogatók: Lengyel Intézet, Kreatív EurópaPartnerek: Csirimojó
Kiadó, Pagony Kiadó
A PesText zárásaként a világirodalom és a vizuális kultúra
találkozik – történetek, képek, formák és színek egy közös
térben.
 Írd be a naptáradba, és ünnepeljük együtt a fesztivál
zárását!Találkozzunk a PesTexten!
END:VEVENT
END:VCALENDAR