BEGIN:VCALENDAR
PRODID://WordPress//Event-Post-V5.9.2//EN
VERSION:2.0
BEGIN:VTIMEZONE
TZID:Europe/Warsaw
BEGIN:DAYLIGHT
TZOFFSETFROM:+0100
TZOFFSETTO:+0200
DTSTART:19700329T020000
RRULE:FREQ=YEARLY;BYDAY=-1SU;BYMONTH=3
END:DAYLIGHT
BEGIN:STANDARD
TZOFFSETFROM:+0200
TZOFFSETTO:+0100
TZNAME:CET
DTSTART:19701025T030000
RRULE:FREQ=YEARLY;BYDAY=-1SU;BYMONTH=10
END:STANDARD
END:VTIMEZONE
BEGIN:VEVENT
SUMMARY:Café Ukraїna #19: Dr. Oksana Makohon
UID:https://instytutpolski.pl/leipzig/2025/04/27/cafe-ukraina-19-makohon/
LOCATION:Polnisches Institut, Markt 10, 04109 Leipzig
DTSTAMP:20260427T180000
DTSTART;TZID=Europe/Warsaw:20260427T180000
DTEND;TZID=Europe/Warsaw:20260427T210000
DESCRIPTION:#SolidarityWithUkraine
Bei der 19. Ausgabe des „Café Ukraїna“ kommt die herausragende
gesellschaftliche Aktivistin und engagierte Bügerin Dr. Oksana Makohon zu
Wort. Sie ist Mitbegründerin der Samstagsschule „Namysto“ und
Vorsitzende der Ukrainischen Gemeinschaft Leipzig „Oberih“ e.V.
Im Gespräch wird Frau Dr. Makohon über ihre langjährige Tätigkeit zum
Wohle der Ukraine berichten, über die Unterstützung der ukrainischen
Kultur und Diaspora in Deutschland sowie über die Realitäten und
Herausforderungen, mit denen ukrainische Migrant*innen im Ausland
konfrontiert sind.
Im Anschluss gibt es wieder die Gelegenheit zum offenen Austausch bei
Snacks und Getränken.
Zur Veranstaltungsreihe „Café Ukraїna“:
Seit jeher ist das Polnische Institut Berlin – Filiale Leipzig ein Ort
europäischer Begegnungen, seit ca. 25 Jahren insbesondere auch mit Polens
Nachbarland Ukraine. Davon zeugen Ausstellungen, Lesungen, Konzerte und
Diskussionen. Besonders seit dem landesweiten russischen Angriffskrieg vom
Februar 2022 ist das Institut verstärkt Ort der Begegnung mit ukrainischer
Kultur und mit Ukrainer*innen geworden. Gemeinsam mit dem Freundeskreis der
Ukraine in Leipzig öffnet es seit Juli 2024 seine Räume für monatliche
Treffen, bei denen die Ukraine im Mittelpunkt steht – mit
Gesprächsrunden, Autor*innenabenden, Filmvorführungen, Konzerten und
vielem mehr. Sie bieten die Gelegenheit, im Kreise Gleichgesinnter zu sein
und diesen Kreis zu erweitern.
Дорогі Друзі України!
Агресивна війна росії проти України
триває вже 12й рік, та вже чотири роки
триває повномасштабне вторгнення.
Протягом цього часу твориться історія,
поширювати яку є не тільки нашою
привілеєю, як жителів Євроейсього Союзу
та вільного світу, але і також нашим
обов’язком.
Ніхто. Не має. Забути.
Саме тому der Freundeskreis der Ukraine in Leipzig починає
регулярні щомісячні зуcтрічі, де ми усі,
зможемо обговорити політичну ситуацію,
пізнати більше про історію та культуру
України, збирати пожертви, опинитися в
колі однодумців, та розширювати це коло!
Усіх щиро запрошуємо!Слава Україні!
***
Liebe Freund*innen der Ukraine!
Der aggressive und böse Krieg Russlands gegen die Ukraine dauert bereits
das zwölfte Jahr und die Große Invasion dauert seit vier Jahren an. In
diesem Zeitraum wird Geschichte geschrieben und die Verbreitung dieser
Geschichte ist nicht nur unser Vorrecht als Einwohner der Europäischen
Union und der freien Welt, sondern auch unsere Pflicht.
Niemand darf vergessen!
Deswegen startet der Freundeskreis der Ukraine in Leipzig regelmäßige
monatliche Meet-Ups. Bei diesen Treffen wird die politische Situation
besprochen, Interessantes über die Geschichte und Kultur der Ukraine
vermittelt und Spenden gesammelt. Sie bieten die Gelegenheit, im Kreise
Gleichgesinnter zu sein und diesen Kreis weiter zu erweitern.
Alle sind herzlich eingeladen!Slava Ukraini!
Veranstalter: Freundeskreis der Ukraine in Leipzig und Ukrainische
Gemeinschaft Leipzig „Oberih“ e.V. mit Unterstützung des Polnischen
Instituts Berlin – Filiale Leipzig
Veranstaltung auf FacebookInfo: freundeskreisukrleipzig.deEintritt:
freiOrt: Polnisches Institut, Markt 10, 04109 Leipzig
 
 
END:VEVENT
END:VCALENDAR