BEGIN:VCALENDAR
PRODID://WordPress//Event-Post-V5.9.2//EN
VERSION:2.0
BEGIN:VTIMEZONE
TZID:Europe/Warsaw
BEGIN:DAYLIGHT
TZOFFSETFROM:+0100
TZOFFSETTO:+0200
DTSTART:19700329T020000
RRULE:FREQ=YEARLY;BYDAY=-1SU;BYMONTH=3
END:DAYLIGHT
BEGIN:STANDARD
TZOFFSETFROM:+0200
TZOFFSETTO:+0100
TZNAME:CET
DTSTART:19701025T030000
RRULE:FREQ=YEARLY;BYDAY=-1SU;BYMONTH=10
END:STANDARD
END:VTIMEZONE
BEGIN:VEVENT
SUMMARY:Der Wiederaufbau geht weiter
UID:https://instytutpolski.pl/leipzig/2025/05/08/der-wiederaufbau-geht-weiter/
LOCATION:Polnisches Institut, Markt 10, 04109 Leipzig
DTSTAMP:20260508T190000
DTSTART;TZID=Europe/Warsaw:20260508T190000
DTEND;TZID=Europe/Warsaw:20260508T210000
DESCRIPTION:Begleitprogramm zur Ausstellung „Der Warschauer Aufstand 1944“
Vortrag von Maria Wardzyńska (Pałac Saski Sp. z o.o.) &amp; Tomasz
Markiewicz (Stiftung für deutsch-polnische Zusammenarbeit)
mit Kommentar von Arnold Bartetzky (GWZO)
Veranstalter der Ausstellung „Der Warschauer Aufstand 1944“
(30.03.–08.05.2026): Bundesverwaltungsgericht, Stadt Leipzig,
Staatskanzlei Sachsen, Museum des Warschauer Aufstands, Konrad-Adenauer
Stiftung Warschau &amp; Polnisches Institut Berlin – Filiale Leipzig,
unterstützt von der Stiftung für deutsch-polnische Zusammenarbeit
Info: 1944.pl, bverwg.deEintritt: freiOrt: Polnisches Institut, Markt 10,
04109 Leipzig
 
 
Foto © Museum des Warschauer Aufstands
 
END:VEVENT
END:VCALENDAR