BEGIN:VCALENDAR
PRODID://WordPress//Event-Post-V5.9.2//EN
VERSION:2.0
BEGIN:VTIMEZONE
TZID:Europe/Warsaw
BEGIN:DAYLIGHT
TZOFFSETFROM:+0100
TZOFFSETTO:+0200
DTSTART:19700329T020000
RRULE:FREQ=YEARLY;BYDAY=-1SU;BYMONTH=3
END:DAYLIGHT
BEGIN:STANDARD
TZOFFSETFROM:+0200
TZOFFSETTO:+0100
TZNAME:CET
DTSTART:19701025T030000
RRULE:FREQ=YEARLY;BYDAY=-1SU;BYMONTH=10
END:STANDARD
END:VTIMEZONE
BEGIN:VEVENT
SUMMARY:Polish Galleries &amp; Photographers presented at Photo London
UID:https://instytutpolski.pl/london/2026/04/21/polish-galleries-photographers-presented-at-photo-london/
LOCATION:
DTSTAMP:20260513
DTSTART;TZID=Europe/Warsaw:20260513
DTEND;TZID=Europe/Warsaw:20260517
DESCRIPTION:13th-17th May 2026, Photo London, London Olympia
Photo London is the UK’s leading international fair for photography and
image-based art. Each year it brings together the world’s most acclaimed
photographers, galleries and curators alongside a new generation of
emerging talent.
This year, for the first time, three Polish Galleries will present at the
fair, supported by the Polish Cultural Institute in London and the Adam
Mickiewicz Institute. 
Find out more about each of the galleries below:
Gallery Monopol - Monopol - Photo London
Gallery Raster - Raster - Photo London
Gallery Jednostka - JEDNOSTKA - Photo London
Book Tickets to Photo London here: 
Photo London | May 14-17 2026 | The UKs leading photography fair
END:VEVENT
END:VCALENDAR