BEGIN:VCALENDAR
PRODID://WordPress//Event-Post-V5.9.2//EN
VERSION:2.0
BEGIN:VTIMEZONE
TZID:Europe/Warsaw
BEGIN:DAYLIGHT
TZOFFSETFROM:+0100
TZOFFSETTO:+0200
DTSTART:19700329T020000
RRULE:FREQ=YEARLY;BYDAY=-1SU;BYMONTH=3
END:DAYLIGHT
BEGIN:STANDARD
TZOFFSETFROM:+0200
TZOFFSETTO:+0100
TZNAME:CET
DTSTART:19701025T030000
RRULE:FREQ=YEARLY;BYDAY=-1SU;BYMONTH=10
END:STANDARD
END:VTIMEZONE
BEGIN:VEVENT
SUMMARY:"Period Drama" Theatre Show by Olga Kaleta
UID:https://instytutpolski.pl/london/2026/04/24/period-drama-theatre-show-by-olga-kaleta/
LOCATION:
DTSTAMP:20260502T193000
DTSTART;TZID=Europe/Warsaw:20260502T193000
DTEND;TZID=Europe/Warsaw:20260502T203000
DESCRIPTION:2nd May, 7:30pm, Jackson's Lane, London
Tickets: Period Drama
Exploring personal experiences of chronic anxiety in a world where fear is
starting to look like common sense, Period Drama offers a deep dive into
the question of wellness through a feminist lens, via slasher flicks,
bloody knickers and the existential dilemmas of insects. 
Combining dark humour and physical comedy, this poignant, beautiful and
laugh-out-loud performance challenges ideas of who we are and what we are
meant to become. The show has toured across England and Wales, where it
has been warmly received by audiences and praised for its urgency and
relevance to the times we live in, as well as its innovative approach to
access.
Period Drama is Kaleta's first full-length show and will be perfroming at
Jacksons Lane on the 2nd May.
The performance is primarily in English but incorporates elements of Polish
and engages with themes of Polish experience and identity. Also with
integrated BSL by Sherrie Eugene Hart.
Watch a Trailler for the Show here: 
https://www.youtube.com/watch?v=lTCBU53-xCk
Visit Olga Kaleta's webpage here: HOME | olgakaleta
Written by Olga Kaleta
Performed by Olga Kaleta and Sherrie Eugene-Hart 
Directed by Laura Murphy with Nicole A’Court-Stuart 
Creative Producer: Nicole A’Court-Stuart 
Visual Artist: Susie Olczak 
BSL interpretation: Sherrie Eugene- Hart 
BSL creative consultant: DL Williams 
Associate Director : Kyla Goodey
Special Thanks to: Bianca Bertalot Farr, Ashley John Long and Paul Evans
Tickets: Period Drama
END:VEVENT
END:VCALENDAR