BEGIN:VCALENDAR
PRODID://WordPress//Event-Post-V5.9.2//EN
VERSION:2.0
BEGIN:VTIMEZONE
TZID:Europe/Warsaw
BEGIN:DAYLIGHT
TZOFFSETFROM:+0100
TZOFFSETTO:+0200
DTSTART:19700329T020000
RRULE:FREQ=YEARLY;BYDAY=-1SU;BYMONTH=3
END:DAYLIGHT
BEGIN:STANDARD
TZOFFSETFROM:+0200
TZOFFSETTO:+0100
TZNAME:CET
DTSTART:19701025T030000
RRULE:FREQ=YEARLY;BYDAY=-1SU;BYMONTH=10
END:STANDARD
END:VTIMEZONE
BEGIN:VEVENT
SUMMARY:Kino Polonia Polish Film Club @ Rio Cinema Dalston
UID:https://instytutpolski.pl/london/2026/04/24/kino-polonia-polish-film-club-rio-cinema-dalston/
LOCATION:
DTSTAMP:20260428
DTSTART;TZID=Europe/Warsaw:20260428
DTEND;TZID=Europe/Warsaw:20260428
DESCRIPTION:28th April, Rio Cinema Dalston
Kino Polonia is a new Polish film club at your local cinema, the Rio. The
club's aim is to showcase the rich history of Polish film making, from cult
classics to bold and compelling contemporary works.
Opening on the 28th April with Three Colours White, Krzysztof Kieslowski's
darkly comic portrait of Karol, a Polish hairdresser abandoned in Paris who
returns to Warsaw to rebuild his life. A story that begins with humiliation
and loss and unfolds into a wry yet comedic tale of resilience and
revenge. 
Book Tickets for Three Colours White HERE
Find out more about Kino Polonia on their instagram page HERE
END:VEVENT
END:VCALENDAR