BEGIN:VCALENDAR
PRODID://WordPress//Event-Post-V5.9.2//EN
VERSION:2.0
BEGIN:VTIMEZONE
TZID:Europe/Warsaw
BEGIN:DAYLIGHT
TZOFFSETFROM:+0100
TZOFFSETTO:+0200
DTSTART:19700329T020000
RRULE:FREQ=YEARLY;BYDAY=-1SU;BYMONTH=3
END:DAYLIGHT
BEGIN:STANDARD
TZOFFSETFROM:+0200
TZOFFSETTO:+0100
TZNAME:CET
DTSTART:19701025T030000
RRULE:FREQ=YEARLY;BYDAY=-1SU;BYMONTH=10
END:STANDARD
END:VTIMEZONE
BEGIN:VEVENT
SUMMARY:Concierto de órgano a cuatro manos con Marta Misztal y Anastasiia Marú en la Iglesia de Santa Rita de Madrid
UID:https://instytutpolski.pl/madrid/2026/04/22/concierto-de-organo-a-cuatro-manos-con-marta-misztal-y-anastasiia-maru-en-la-iglesia-de-santa-rosa-de-madrid/
LOCATION:
DTSTAMP:20260425T204500
DTSTART;TZID=Europe/Warsaw:20260425T204500
DTEND;TZID=Europe/Warsaw:20260425T214500
DESCRIPTION:Hoy por hoy los conciertos a cuatro manos son poco frecuentes. Tocar así
era más habitual en épocas pasadas, en particular en el siglo XIX, cuando
este tipo de música solía ejecutarse en casa, en el ámbito privado,
familiar. Con aún menos frecuencia las intérpretes son mujeres y,
además, forman un dúo polaco-ucraniano. En los tiempos actuales, cuando
la guerra a gran escala en Ucrania ya ha entrado en su cuarto año, cada
muestra de solidaridad con este país tiene mucha importancia, por eso hoy
es tan relevante este concierto.
En el Fandango de Luigi Boccherini las organistas serán acompañadas por
el artista invitado Mario López Pedraza.
PROGRAMA
Georg Friedrich Haendel (1685-1759) *** Concierto núm. 2, Op.
4(Transcripción G.A. Thomas)
Johann Sebastian Bach (1685-1750) *Schmücke dich, o liebe Seele, BWV
654(Adórnate, alma querida...)
Wolfgang Amadeus Mozart (1756-1791) ***Fuga en Sol menor, KV 401
Moritz Moszkowski (1854-1925) ***Danza española núm. 2(Danzas españolas
a 4 manos, Op. 12)
Luigi Boccherini (1743-1805) *** ♫♫Fandango(Transcripción I.
Rechsteiner)
Juliusz Zarębski (1854-1885) ***Dumka para 4 manos, Op. 23
Myroslav Volynskyi (1955) **Fantasía para Órgano
Hanna Havrylets (1958-2022) *A María(Transcripción G. Kurkov)
Mélanie Bonis (1858-1937) **Toccata en Sol menor, Op. 97
Barbara Strzelecka (1928-2018) *Preludio núm. 23(de los 23 Preludios para
Órgano)
Giovanni Morandi (1777-1856) ***Sonata en Sib para 4 manos
Dúo a 4 manos ***Anastasiia **Marta *Mario - castañuelas
Anastasiia Marú pianista y organista ucraniana, originaria de Odesa. Es
doctora en Artes Musicales por el Conservatorio Nacional A.V. Nezhdanova y
Máster en Interpretación e Investigación de la Música Española por el
Real Conservatorio Superior de Música de Madrid. Ha actuado en destacados
escenarios de Ucrania, como la Ópera Nacional y la Filarmónica de Odesa,
y en diversos países europeos: España, Alemania, Grecia, Suiza… En
Madrid ha colaborado con la Orquesta y Coro RTVE en una retransmisión en
directo desde el Teatro Monumental junto al violinista Miguel Borrego y el
organista Daniel Oyarzabal. Inauguró el Festival Internacional de Órgano
de San Antonio de los Alemanes de Madrid 2024.
Colabora con el organista Norbert Itrich en proyectos que integran música,
patrimonio y restauración. Ha actuado en varios festivales de órgano
ibérico como Las Merindades, Música y Mística, Ars Vadocondes y otros en
La Rioja, Castilla-La Mancha y Castilla y León. Compagina su actividad
artística con la pedagógica como cofundadora de LAA Escuela de Música y
del proyecto ARTE.
Marta Misztal Bloch nació en Zakopane (Polonia). En su ciudad natal
compaginó estudios musicales en el Conservatorio Mieczysław Karłowicz
(clase de piano de Prof. Lidia Długołęcka) con los de escultura en el
Instituto Antoni Kenar. Continuó sus estudios de escultura en École
Superiéure de Beaux-Arts ENSBA de París.
En Madrid estudió el órgano en el Conservatorio Profesional de Música
Arturo Soria (Prof. Anselmo Serna) y en el Real Conservatorio Superior de
Música de Madrid (Prof. Miguel del Barco Gallego), donde obtuvo el título
de Profesora Superior de Órgano. Ha profundizado sus estudios en España,
Italia, Alemania y Suiza con maestros: Montserrat Torrent, Andrés Cea,
Luigi Ferdinando Tagliavini, Jean-Claude Zehnder, Michéle Bouvard, Paolo
Crivellaro, Lorenzo Ghielmi, Jan Willem Jansen… Ha sido becada por la
Hochschule für Music de Leipzig (International Summer Music
Academy-Leipzig). En su actividad artística se centra en la música
antigua, ofreciendo conciertos en España y en el extranjero: XVII Ciclo de
Órgano en el Palacio Real (Madrid), XXXIII y XXXIV Semana Internacional de
Órgano de Madrid, Las Edades del Hombre, I Ciclo de Órgano de Córdoba,
Música para Órgano en Navarra 2023, Organi storici in Cadore, Vespri di
organo in San Martino in Bologna, Międzynarodowy Festiwal Organowy J.S.
Bach (Varsovia /Łowicz), Kazimierski Festiwal Organowy…Międzynarodowy
Festiwal Muzyki Organowej Gdańsk…
Es organista de la Iglesia de San Antonio de los Alemanes, fundadora de la
Capilla Musical y coordinadora del Festival Internacional de Órgano del
mismo templo.
Mario López Pedraza realizó el Grado Superior de Percusión bajo la
tutela del catedrático Manuel Pérez en el Real Conservatorio Superior de
Música de Madrid. Actualmente, cursa el Máster de Interpretación
Sinfónica en el mismo centro, en convenio con la Orquesta RTVE con los
profesores Raúl Benavent y José Luis González. En 2023 fue ganador del
Concurso de Música de Cámara Jesús de Monasterio del Real Conservatorio
Superior de Música de Madrid. Y en 2024 fue ganador del Concurso de
Solistas de Grandes Agrupaciones del mismo centro, tocando así como
intérprete solista el Concierto para Marimba y Orquesta de Emmanuel
Sèjournè en el Teatro Monumental. Asimismo, ha colaborado con formaciones
como la Orquesta Sinfónica Ciudad de Getafe, la Joven Orquesta Nacional de
España (JONDE), la Orquesta de Córdoba, la Orquesta de Radio y
Televisión Española (RTVE) y la NFM Wrocław Philharmonic (Polonia),
donde actualmente es academista.  
MÁS INFORMACIÓNLa entrada es gratuita con un donativo voluntario. El
concierto se retransmitirá en pantallas LED.
END:VEVENT
END:VCALENDAR