BEGIN:VCALENDAR
PRODID://WordPress//Event-Post-V5.9.2//EN
VERSION:2.0
BEGIN:VTIMEZONE
TZID:Europe/Warsaw
BEGIN:DAYLIGHT
TZOFFSETFROM:+0100
TZOFFSETTO:+0200
DTSTART:19700329T020000
RRULE:FREQ=YEARLY;BYDAY=-1SU;BYMONTH=3
END:DAYLIGHT
BEGIN:STANDARD
TZOFFSETFROM:+0200
TZOFFSETTO:+0100
TZNAME:CET
DTSTART:19701025T030000
RRULE:FREQ=YEARLY;BYDAY=-1SU;BYMONTH=10
END:STANDARD
END:VTIMEZONE
BEGIN:VEVENT
SUMMARY:Coloquio con Enrique Redel y Wojciech Orliński: «Lem. Un mundo que no es de este mundo»
UID:https://instytutpolski.pl/madrid/2026/04/24/coloquio-con-enrique-redel-y-wojciech-orlinski-lem-un-mundo-que-no-es-de-este-mundo/
LOCATION:
DTSTAMP:20260505T193000
DTSTART;TZID=Europe/Warsaw:20260505T193000
DTEND;TZID=Europe/Warsaw:20260505T203000
DESCRIPTION:Autor de títulos fundamentales como Solaris, El Invencible, La Voz del Amo
o Memorias encontradas en una bañera, Lem llevó la ciencia ficción mucho
más allá del género, combinando imaginación, humor, filosofía y una
mirada crítica sobre la tecnología y el ser humano. En los últimos
años, Impedimenta ha recuperado buena parte de su obra para nuevos
lectores, culminando con la publicación de Tiempo no perdido, la trilogía
temprana y menos conocida del autor y una parte esencial de su trayectoria
literaria.
Consulta aquí toda la obra de Lem publicada por Impedimenta.
Wojciech Orliński nació en Varsovia en 1969. Periodista en la Gazeta
Wyborcza, se le considera el mayor experto mundial en la obra del escritor
polaco de ciencia ficción Stanisław Lem. Es autor de la novela
fantástica Polonia no existe (2015) y de diferentes relatos de ciencia
ficción. Ha escrito, asimismo, Internet. Hora de tener miedo (2013), y de
la biografía de Paul Baran, The Man Who Invented the Internet (2019). Ha
sido galardonado con el premio Silesian Fantasy Club: Slakfa en la
categoría de Editor del año 2018.
INSCRIPCIÓN GRATUITAStanisław Lem: Un mundo que no es de este mundo
END:VEVENT
END:VCALENDAR