BEGIN:VCALENDAR
PRODID://WordPress//Event-Post-V5.9.2//EN
VERSION:2.0
BEGIN:VTIMEZONE
TZID:Europe/Warsaw
BEGIN:DAYLIGHT
TZOFFSETFROM:+0100
TZOFFSETTO:+0200
DTSTART:19700329T020000
RRULE:FREQ=YEARLY;BYDAY=-1SU;BYMONTH=3
END:DAYLIGHT
BEGIN:STANDARD
TZOFFSETFROM:+0200
TZOFFSETTO:+0100
TZNAME:CET
DTSTART:19701025T030000
RRULE:FREQ=YEARLY;BYDAY=-1SU;BYMONTH=10
END:STANDARD
END:VTIMEZONE
BEGIN:VEVENT
SUMMARY:HINDUSTANI DIL- From Poland to India
UID:https://instytutpolski.pl/newdelhi/2026/04/20/hindustani-dil-from-poland-to-india/
LOCATION:
DTSTAMP:20260420
DTSTART;TZID=Europe/Warsaw:20260420
DTEND;TZID=Europe/Warsaw:20260420
DESCRIPTION:We are delighted to invite you to a special musical evening featuring
Michał Rudaś, an exceptional Polish artist celebrated for his deep
engagement with Indian music. A rare talent and a remarkable musical voice,
Michał beautifully bridges the cultural worlds of Poland and India. He
will be joined by Shomudro Ghosh on the piano.Having won hearts during his
memorable appearance on the reality TV show, Dil Hai Hindustani, he now
returns to India for a captivating live performance titled 'Hindustani Dil:
From Poland to India.'Date: 20th AprilTime: 9:00 PMVenue: The Piano Man,
Eldeco Centre, New DelhiPlease join us for this unique cross-cultural
musical experience.
END:VEVENT
END:VCALENDAR