BEGIN:VCALENDAR
PRODID://WordPress//Event-Post-V5.9.2//EN
VERSION:2.0
BEGIN:VTIMEZONE
TZID:Europe/Warsaw
BEGIN:DAYLIGHT
TZOFFSETFROM:+0100
TZOFFSETTO:+0200
DTSTART:19700329T020000
RRULE:FREQ=YEARLY;BYDAY=-1SU;BYMONTH=3
END:DAYLIGHT
BEGIN:STANDARD
TZOFFSETFROM:+0200
TZOFFSETTO:+0100
TZNAME:CET
DTSTART:19701025T030000
RRULE:FREQ=YEARLY;BYDAY=-1SU;BYMONTH=10
END:STANDARD
END:VTIMEZONE
BEGIN:VEVENT
SUMMARY:Polsko na Světě knihy 2026
UID:https://instytutpolski.pl/praha/2026/04/20/polsko-na-svete-knihy-2026/
LOCATION:Výstaviště Holešovice
DTSTAMP:20260514T100000
DTSTART;TZID=Europe/Warsaw:20260514T100000
DTEND;TZID=Europe/Warsaw:20260517T160000
DESCRIPTION:Letos se na největším českém knižním veletrhu a literárním
festivalu můžete seznámit s nejnovější polskou literaturou
nejrůznějších žánrů – od komiksu až po literaturu pro děti.
Tradičně nebude chybět reportáž, Joanna Kuciel-Frydryszak uvede
český překlad knihy Služky pro všechno a Aleksandra Wojtaszek Fjaku,
pohled na Chorvatsko, jak ho neznáte. Leoš Kyša a Jakub Ćwiek
představí svou unikátní antologii polsko-české fantastiky Poslední
výstřel. Pokřtíme první autorizovanou biografii slavné polské
režisérky Agnieszky Holland, jejíž autorkou je filmová
novinářka Karolina Pasternak. Nakladatelství Centrala Michała Słomky
připravilo bohatý komiksový program složený z diskusí a živé
kresby. Rodiče s dětmi zveme na setkání s autorkou populární série
Péťa, Martou Galewskou-Kustrou. Polský stánek (KB501) nabídne polskou
literaturu ke koupi i k prolistování a autogramiády.
Organizátoři: Polský institut v Praze, Instytut Książki
www.svetknihy.cz
POLSKO NA SVĚTĚ KNIHY 14.–17. 5. 2026
Polský stánek: KB501
ČTVRTEK 14. 5.
MIMO VÝSTAVIŠTĚ
18:30 | Laichterův dům, Chopinova 1543/4, Praha 2 | Večer s
reportérkou Joannou Kuciel-Frydryszak a nakladatelstvím Absynt
PÁTEK 15. 5.
16:00 | Ostrov ilustrace a komiksu | Evropská mozaika komiksu:
autogramiáda a živá kresba | Janek Koza (Polsko), Ivan Kypibida a Julija
Vus (Ukrajina), Laura Pérez (Španělsko)
17:00 | sál Káji Saudka | Premiéra komiksů Centraly: Janek Koza a Laura
Pérez
17:00 | sál Karla Čapka | Poslední výstřel: Leoš Kyša a Jakub
Ćwiek |Nová antologie česko-polské fantastiky | vyd. Naše
nakladatelství
18:00 | autogramiáda na Polském stánku
18:00 | Evropské náměstí | Mezinárodní komiksový battle | Błażej
Kurowski a Krzysztof Nowak (Polsko), Julija Vus a Ivan Kypibida (Ukrajina),
Tobias Aeschbacher (Švýcarsko), Mikael Ross (Německo)
18:00 | Ostrov ilustrace a komiksu | Evropská mozaika komiksu:
autogramiáda a živá kresba | Janek Koza a Beata Rojek (Polsko), Laura
Pérez (Španělsko), Julia Bernhard (Německo)
SOBOTA 16.5.  
10:00 | sál Jaroslava Seiferta | Reportáž o služkách pro všechno |
Besedu s Joannou Kuciel-Frydryszak uvádí Blanka Činátlová | vyd.
Absynt
11:00  | autogramiáda na Polském stánku
11:00 | sál Káji Saudka | Mladý polský sci-fi komiks | Błażej
Kurowski, Krzysztof Nowak a Michał Słomka z nakladatelství Centrala
11:00 | stánek Luxor KE404 | Debata o populární sérii Péťa s Martou
Galewskou-Kustrou a autogramiáda
12:00 | sál Jaroslava Seiferta |Chorvatsko, které neznáte: beseda s
Aleksandrou Wojtaszek | Reportáž „Fjaka“ uvádí Pavel Trojan | vyd.
Dokořán a Jaroslava Jiskrová – Máj
13:00 | autogramiáda na Polském stánku
14:00 | Evropské náměstí | (Ne)oficiální středoevropská kultura |
Debata V4: Soňa Uríková, Anna Wanik, Tamász Jászay, Pavel Klusák
15:00 | PEN klubovna Jiřího Gruši | Aleksandra Wojtaszek: Fjaka.
Chorvatská sezóna
15:00 | Evropské náměstí | Diskuse Evropská identita v pohybu |
Karolina Pasternak (Polsko), Renata Libal (Švýcarsko), Johanna Sebauer
(Rakousko), David Machado (Portugalsko)
15:00 | sál Káji Saudka | Beata Rojek a Julia Bernhard: Sebereflexe žen
| Nové komiksy z nakladatelství Centrala
Sobotní evropská mozaika komiksu: autogramiáda a živá kresba | Ostrov
ilustrace a komiksu
12:00 | Błażej Kurowski a Krzysztof Nowak (Polsko), Filip Zatloukal a
Kateřina Čupová (Česko)
16:00 | Beata Rojek (Polsko), Julia Bernhard (Německo), Ivan Brun
(Francie), Zdenka Holub-Převrátilová (Česko)
17:00 | Janek Koza (Polsko), Ivan Kypibida a Julija Vus (Ukrajina), Tobias
Aeschbacher (Švýcarsko)
NEDĚLE 17.5.
10:00 | sál Boženy Němcové | Poznejte dějiny polské kinematografie! |
Petr Vlček uvádí knihu Tadeusze Lubelského | vyd. NAMU
11:00 | sál Milana Kundery | Agnieszka Holland zblízka: beseda
s Karolinou Pasternak | První biografie slavné polské režisérky |
vyd. Grada
12:00 | autogramiáda na Polském stánku
END:VEVENT
END:VCALENDAR