BEGIN:VCALENDAR
PRODID://WordPress//Event-Post-V5.9.2//EN
VERSION:2.0
BEGIN:VTIMEZONE
TZID:Europe/Warsaw
BEGIN:DAYLIGHT
TZOFFSETFROM:+0100
TZOFFSETTO:+0200
DTSTART:19700329T020000
RRULE:FREQ=YEARLY;BYDAY=-1SU;BYMONTH=3
END:DAYLIGHT
BEGIN:STANDARD
TZOFFSETFROM:+0200
TZOFFSETTO:+0100
TZNAME:CET
DTSTART:19701025T030000
RRULE:FREQ=YEARLY;BYDAY=-1SU;BYMONTH=10
END:STANDARD
END:VTIMEZONE
BEGIN:VEVENT
SUMMARY:Česko-polské fórum 2026
UID:https://instytutpolski.pl/praha/2026/04/21/cesko-polske-forum-2026/
LOCATION:
DTSTAMP:20260421
DTSTART;TZID=Europe/Warsaw:20260421
DTEND;TZID=Europe/Warsaw:20260510
DESCRIPTION:➤ Cílem programu je podpora nových i rozvoj stávajících neziskových
projektů přispívajících k posilování česko-polských vztahů.➤
Podporovány budou pouze projekty připravené a realizované společně s
polským partnerem. Vítány jsou žádosti oprávněných subjektů
z celé České republiky, tj. nikoli pouze z oblastí či regionů
sousedících s Polskem.➤ Dotační řízení je vyhlášeno pro
nestátní neziskové organizace a další oprávněné subjekty.
 Návrhy lze podávat do 10. 5. 2026 do 23:59.
Více informací na webových stránkách Ministerstva zahraničních
věcí ČR.
END:VEVENT
END:VCALENDAR