BEGIN:VCALENDAR
PRODID://WordPress//Event-Post-V5.9.2//EN
VERSION:2.0
BEGIN:VTIMEZONE
TZID:Europe/Warsaw
BEGIN:DAYLIGHT
TZOFFSETFROM:+0100
TZOFFSETTO:+0200
DTSTART:19700329T020000
RRULE:FREQ=YEARLY;BYDAY=-1SU;BYMONTH=3
END:DAYLIGHT
BEGIN:STANDARD
TZOFFSETFROM:+0200
TZOFFSETTO:+0100
TZNAME:CET
DTSTART:19701025T030000
RRULE:FREQ=YEARLY;BYDAY=-1SU;BYMONTH=10
END:STANDARD
END:VTIMEZONE
BEGIN:VEVENT
SUMMARY:Kino na hranici
UID:https://instytutpolski.pl/praha/2026/04/23/kino-na-hranici-4/
LOCATION:Cieszyn a Český Těšín
DTSTAMP:20260429
DTSTART;TZID=Europe/Warsaw:20260429
DTEND;TZID=Europe/Warsaw:20260504
DESCRIPTION:Příznivci polských filmů se mohou těšit na retrospektivu režiséra
Filipa Bajona, mistra historických fresek. Program nabídne i sekci
věnovanou jednomu z nejobsazovanějších polských herců současnosti,
Robertu Więckiewiczovi, a představí jeho schopnost ztvárnit komplexní
postavy, mimo jiné ikonického Lecha Wałęsu ve snímku Wałęsa.
Člověk naděje Andrzeje Wajdy. Výjimečným momentem bude uvedení
snímku Franz, ke kterému dorazí početná česko-polská delegace.
Českou stranu zastoupí herci Josef Trojan, Jan Budař a Anita Krausová,
polskou pak kameraman Tomasz Naumiuk a herečka Sandra Korzeniak.
Součástí festivalu je i literární program s názvem Literatura na
hranici.
www.kinonahranici.cz
END:VEVENT
END:VCALENDAR