BEGIN:VCALENDAR
PRODID://WordPress//Event-Post-V5.9.2//EN
VERSION:2.0
BEGIN:VTIMEZONE
TZID:Europe/Warsaw
BEGIN:DAYLIGHT
TZOFFSETFROM:+0100
TZOFFSETTO:+0200
DTSTART:19700329T020000
RRULE:FREQ=YEARLY;BYDAY=-1SU;BYMONTH=3
END:DAYLIGHT
BEGIN:STANDARD
TZOFFSETFROM:+0200
TZOFFSETTO:+0100
TZNAME:CET
DTSTART:19701025T030000
RRULE:FREQ=YEARLY;BYDAY=-1SU;BYMONTH=10
END:STANDARD
END:VTIMEZONE
BEGIN:VEVENT
SUMMARY:Trupa trupa
UID:https://instytutpolski.pl/praha/2026/04/23/trupa-trupa/
LOCATION:Rožnov pod Radhoštěm / Hudební klub Vrátnice, 1. máje 1000
DTSTAMP:20260430T200000
DTSTART;TZID=Europe/Warsaw:20260430T200000
DTEND;TZID=Europe/Warsaw:20260430T200000
DESCRIPTION:Skupina, kterou prestižní časopis Rolling Stone zařadil na seznam
autorů nejlepších skladeb roku 2025, na pódiu prezentuje pozoruhodný
mix punku, psychedelie, popu nebo noisu a zajímavé je, že hraje mnohem
více koncertů v zahraničí než v rodném Polsku. Hudba této formace je
známa i filmovému publiku, především díky spolupráci s Agnieszkou
Holland, pro jejíž filmy Hranice a zejména její poslední filmový
počin, snímek Franz, vytvořili muzikanti část soundtracku.
30. 4. / 20:00
www.vratnice.com
END:VEVENT
END:VCALENDAR