BEGIN:VCALENDAR
PRODID://WordPress//Event-Post-V5.9.2//EN
VERSION:2.0
BEGIN:VTIMEZONE
TZID:Europe/Warsaw
BEGIN:DAYLIGHT
TZOFFSETFROM:+0100
TZOFFSETTO:+0200
DTSTART:19700329T020000
RRULE:FREQ=YEARLY;BYDAY=-1SU;BYMONTH=3
END:DAYLIGHT
BEGIN:STANDARD
TZOFFSETFROM:+0200
TZOFFSETTO:+0100
TZNAME:CET
DTSTART:19701025T030000
RRULE:FREQ=YEARLY;BYDAY=-1SU;BYMONTH=10
END:STANDARD
END:VTIMEZONE
BEGIN:VEVENT
SUMMARY:Půda a přátelé / výstava
UID:https://instytutpolski.pl/praha/2026/04/23/puda-a-pratele-vystava/
LOCATION:Ostrava / PLATO, Porážková 26
DTSTAMP:20260430
DTSTART;TZID=Europe/Warsaw:20260430
DTEND;TZID=Europe/Warsaw:20260913
DESCRIPTION:Prostřednictvím rozmanitých uměleckých přístupů výstava zkoumá
propletené vztahy anorganických částic, půdních organismů, rostlin,
zvířat i lidí. Půda je zdrojem života, statkem i činitelem
ovlivňujícím klima Země. Není tedy divu, že její regeneraci věnuje
umělecký svět tolik pozornosti. Projekt vznikl ve spolupráci Centra
současného umění Zamek Ujazdowski ve Varšavě a PLATO.
Vernisáž: 29. 4. v 18:00
www.plato-ostrava.cz
END:VEVENT
END:VCALENDAR