BEGIN:VCALENDAR
PRODID://WordPress//Event-Post-V5.9.2//EN
VERSION:2.0
BEGIN:VTIMEZONE
TZID:Europe/Warsaw
BEGIN:DAYLIGHT
TZOFFSETFROM:+0100
TZOFFSETTO:+0200
DTSTART:19700329T020000
RRULE:FREQ=YEARLY;BYDAY=-1SU;BYMONTH=3
END:DAYLIGHT
BEGIN:STANDARD
TZOFFSETFROM:+0200
TZOFFSETTO:+0100
TZNAME:CET
DTSTART:19701025T030000
RRULE:FREQ=YEARLY;BYDAY=-1SU;BYMONTH=10
END:STANDARD
END:VTIMEZONE
BEGIN:VEVENT
SUMMARY:2. edycja Programu „Poland. Business Adventure”
UID:https://instytutpolski.pl/tokyo/pl/2-edycja-programu-poland-business-adventure/
LOCATION:
DTSTAMP:20260424
DTSTART;TZID=Europe/Warsaw:20260424
DTEND;TZID=Europe/Warsaw:20260517
DESCRIPTION:Zapraszamy przedstawicieli Polonii do udziału w 2. edycji Programu staży
zawodowych „Poland. Business Adventure”. Program skierowany jest do
osób w wieku 21-35 lat,
posiadających polskie obywatelstwo lub Kartę Polaka. Zakłada on odbycie
3- miesięcznego stażu (w okresie między czerwcem a listopadem 2026 r.) w
wybranych polskich firmach,
w tym spółkach Skarbu Państwa, instytucjach publicznych lub polskich
oddziałach firm zagranicznych w Polsce. Do udziału w drugiej edycji
Programu zapraszamy osoby mieszkające na całym świecie.
Program finansowany jest ze środków Ministerstwa Spraw Zagranicznych RP,
a jego realizatorem jest Polska Agencja Inwestycji i Handlu. Uczestnicy
otrzymają stypendia na
pokrycie kosztów utrzymania w Polsce oraz refundację kosztów dojazdu
do/z Polski.
Program umożliwi młodym ludziom, wychowanym i wykształconym poza
granicami kraju, poznanie i doświadczenie współczesnej Polski.
Osoby zainteresowane udziałem w programie „Poland. Business Adventure”
powinny przesłać formularz w systemie eRecruiter.
Link:
https://system.erecruiter.pl/FormTemplates/RecruitmentForm.aspx?WebID=0d1de964bb50412eadde780d3e01abec
Zgłoszenia należy składać do 17.05.2026 r. do końca dnia.
Decyzje o wyborze uczestników Programu zostaną ogłoszone na głównej
stronie internetowej MSZ do 1 czerwca 2026 r.
Ogłoszona lista będzie zawierała imię i nazwisko oraz kraj zamieszkania
zakwalifikowanej osoby.
Adres do kontaktu: dwppg.stazebiznesowe@msz.gov.pl
Zachęcamy wszystkie młode, ambitne i ciekawe swoich polskich korzeni
osoby do udziału w programie „Poland. Business Adventure”.
Szczegółowe informacje znajdują się na stronie:
https://www.gov.pl/web/dyplomacja/zaproszenie-do-udzialu-w-2-edycji-programustypendialnego-poland-business-adventure
END:VEVENT
END:VCALENDAR