BEGIN:VCALENDAR
PRODID://WordPress//Event-Post-V5.9.2//EN
VERSION:2.0
BEGIN:VTIMEZONE
TZID:Europe/Warsaw
BEGIN:DAYLIGHT
TZOFFSETFROM:+0100
TZOFFSETTO:+0200
DTSTART:19700329T020000
RRULE:FREQ=YEARLY;BYDAY=-1SU;BYMONTH=3
END:DAYLIGHT
BEGIN:STANDARD
TZOFFSETFROM:+0200
TZOFFSETTO:+0100
TZNAME:CET
DTSTART:19701025T030000
RRULE:FREQ=YEARLY;BYDAY=-1SU;BYMONTH=10
END:STANDARD
END:VTIMEZONE
BEGIN:VEVENT
SUMMARY:Konkurs uczniowski na 1-minutowy filmik
UID:https://instytutpolski.pl/vilnius/pl/2026/04/20/konkurs-uczniowski-na-1-minutowy-filmik/
LOCATION:
DTSTAMP:20260420
DTSTART;TZID=Europe/Warsaw:20260420
DTEND;TZID=Europe/Warsaw:20260430
DESCRIPTION:Społeczność Kolonii Wileńskiej oraz Klub Filmowy Gimnazjum
„Laisvės” w Wilnie ogłaszają konkurs uczniowski na 1-minutowy filmik
„3K: Kino kota Konwickiego”. Konkurs ma na celu oryginalne
upamiętnienie setnej rocznicy urodzin Tadeusza Konwickiego (1926–2015)
– polskiego pisarza, scenarzysty i reżysera filmowego urodzonego się w
Nowej Wilejce i mieszkającego w Kolonii Wileńskiej.  Co ma z tym
wspólnego kot? 
Zapoznaj się z regulaminem konkursu: https://tiny.pl/p00v9tfzh
END:VEVENT
END:VCALENDAR