BEGIN:VCALENDAR
PRODID://WordPress//Event-Post-V5.9.2//EN
VERSION:2.0
BEGIN:VTIMEZONE
TZID:Europe/Warsaw
BEGIN:DAYLIGHT
TZOFFSETFROM:+0100
TZOFFSETTO:+0200
DTSTART:19700329T020000
RRULE:FREQ=YEARLY;BYDAY=-1SU;BYMONTH=3
END:DAYLIGHT
BEGIN:STANDARD
TZOFFSETFROM:+0200
TZOFFSETTO:+0100
TZNAME:CET
DTSTART:19701025T030000
RRULE:FREQ=YEARLY;BYDAY=-1SU;BYMONTH=10
END:STANDARD
END:VTIMEZONE
BEGIN:VEVENT
SUMMARY:Mokinių 1 minutės filmų konkursas
UID:https://instytutpolski.pl/vilnius/2026/04/20/mokiniu-1-minutes-filmu-konkursas/
LOCATION:
DTSTAMP:20260420
DTSTART;TZID=Europe/Warsaw:20260420
DTEND;TZID=Europe/Warsaw:20260430
DESCRIPTION:Pavilnio bendruomenė ir Vilniaus „Laisvės“ gimnazijos Kino klubas
skelbia Vilniaus apskrities mokinių 1 minutės filmų konkursą „3K:
Konvickio katino kinas“, skirtą originaliai paminėti Naujojoje Vilnioje
gimusio ir Pavilnyje gyvenusio lenkų rašytojo, scenaristo bei kino
režisieriaus Tadeuszo Konwickio (1926–2015) 100-ąsiais gimimo metines.
Kuo čia dėtas katinas? Susipažinkite su konkurso
nuostatais: https://tiny.pl/p00v9tfzh
END:VEVENT
END:VCALENDAR