BEGIN:VCALENDAR
PRODID://WordPress//Event-Post-V5.9.2//EN
VERSION:2.0
BEGIN:VTIMEZONE
TZID:Europe/Warsaw
BEGIN:DAYLIGHT
TZOFFSETFROM:+0100
TZOFFSETTO:+0200
DTSTART:19700329T020000
RRULE:FREQ=YEARLY;BYDAY=-1SU;BYMONTH=3
END:DAYLIGHT
BEGIN:STANDARD
TZOFFSETFROM:+0200
TZOFFSETTO:+0100
TZNAME:CET
DTSTART:19701025T030000
RRULE:FREQ=YEARLY;BYDAY=-1SU;BYMONTH=10
END:STANDARD
END:VTIMEZONE
BEGIN:VEVENT
SUMMARY:Paroda „Jurgis Giedraitis (1906–2000) – laisvės geografijos kūrėjas
UID:https://instytutpolski.pl/vilnius/2026/04/22/paroda-jurgis-giedraitis-1906-2000-laisves-geografijos-kurejas/
LOCATION:
DTSTAMP:20260428
DTSTART;TZID=Europe/Warsaw:20260428
DTEND;TZID=Europe/Warsaw:20260531
DESCRIPTION:2026 m. balandžio 28 d. 11.00 – 13.00 val., Jurgio Giedraičio takas
(ties Bokšto g. 14A).
Jurgio Giedraičio (1906–2000) 120-ųjų gimimo metinių ir
„Literatūros instituto“ 80-ųjų įkūrimo metinių minėjimo
Lietuvoje proga 2026 m. balandžio 28 d. 11.00–13.00 val. kviečiame į
parodos „Jurgis Giedraitis / Jerzy Giedroyc (1906–2000) – laisvės
geografijos kūrėjas“ iškilmingą atidarymą Jurgio Giedraičio / Jerzy
Giedroyco take (ties Bokšto g. 14A).
Sveikinimo žodžius tars:
Valdas Benkunskas, Vilniaus miesto merasRafał Grupiński, Lenkijos
Respublikos Senato vicepirmininkasViktorija Čmilytė-Nielsen, Lietuvos
Respublikos Seimo pirmininko pavaduotojaAleksandr Radčenko, Lietuvos
Respublikos Ministrės Pirmininkės patarėjasAnna Bernhardt, Paryžiaus
Literatūros instituto „Kultura“ pirmininkėprof. Alfredas Bumblauskas,
parodos koncepcijos autoriusdr. Barbara Stankiewicz, parodos sumanytoja
Teatralizuoto parodos atidarymo scenarijaus autorė – Gabrielė
Andruškevič.
END:VEVENT
END:VCALENDAR