BEGIN:VCALENDAR
PRODID://WordPress//Event-Post-V5.9.2//EN
VERSION:2.0
BEGIN:VTIMEZONE
TZID:Europe/Warsaw
BEGIN:DAYLIGHT
TZOFFSETFROM:+0100
TZOFFSETTO:+0200
DTSTART:19700329T020000
RRULE:FREQ=YEARLY;BYDAY=-1SU;BYMONTH=3
END:DAYLIGHT
BEGIN:STANDARD
TZOFFSETFROM:+0200
TZOFFSETTO:+0100
TZNAME:CET
DTSTART:19701025T030000
RRULE:FREQ=YEARLY;BYDAY=-1SU;BYMONTH=10
END:STANDARD
END:VTIMEZONE
BEGIN:VEVENT
SUMMARY:Wystawa „Jerzy Giedroyc (1906–2000) – twórca geografii wolności”
UID:https://instytutpolski.pl/vilnius/pl/2026/04/22/wystawa-jerzy-giedroyc-1906-2000-tworca-geografii-wolnosci/
LOCATION:
DTSTAMP:20260428
DTSTART;TZID=Europe/Warsaw:20260428
DTEND;TZID=Europe/Warsaw:20260531
DESCRIPTION:28 kwietnia 2026 r.,  godz. 11.00–13.00, Skwer im. Jerzego Giedroycia
(przy ul. Bokšto 14A) w Wilnie.
Z okazji 120. rocznicy urodzin Jerzego Giedroycia (1906–2000) oraz 80.
rocznicy powstania Instytutu Literackiego zapraszamy 28 kwietnia 2026 r. w
godz. 11.00–13.00 na uroczyste otwarcie wystawy „Jerzy Giedroyc
(1906–2000) – twórca geografii wolności”, które odbędzie się na
Skwerze im. Jerzego Giedroycia (przy ul. Bokšto 14A) w Wilnie.
Przemówienia wygłoszą:
Valdas Benkunskas, mer WilnaRafał Grupiński, wicemarszałek Senatu
Rzeczypospolitej PolskiejViktorija Čmilytė-Nielsen, wiceprzewodnicząca
Sejmu Republiki LitewskiejAleksandr Radčenko, doradca Premiera Republiki
LitewskiejAnna Bernhardt, prezes Instytutu Literackiego „Kultura” w
Paryżuprof. Alfredas Bumblauskas, autor koncepcji wystawydr Barbara
Stankiewicz, inicjatorka wystawy
Autorką scenariusza teatralizowanego otwarcia wystawy - Gabriela
Andruszkiewicz.
END:VEVENT
END:VCALENDAR