BEGIN:VCALENDAR
PRODID://WordPress//Event-Post-V5.9.2//EN
VERSION:2.0
BEGIN:VTIMEZONE
TZID:Europe/Warsaw
BEGIN:DAYLIGHT
TZOFFSETFROM:+0100
TZOFFSETTO:+0200
DTSTART:19700329T020000
RRULE:FREQ=YEARLY;BYDAY=-1SU;BYMONTH=3
END:DAYLIGHT
BEGIN:STANDARD
TZOFFSETFROM:+0200
TZOFFSETTO:+0100
TZNAME:CET
DTSTART:19701025T030000
RRULE:FREQ=YEARLY;BYDAY=-1SU;BYMONTH=10
END:STANDARD
END:VTIMEZONE
BEGIN:VEVENT
SUMMARY:„Muzika sename vienuolyne“ 2026
UID:https://instytutpolski.pl/vilnius/2026/04/22/muzika-sename-vienuolyne-2026/
LOCATION:
DTSTAMP:20260502
DTSTART;TZID=Europe/Warsaw:20260502
DTEND;TZID=Europe/Warsaw:20260509
DESCRIPTION:2026 m., 2-8 gegužės, Švč. Mergelės Marijos Ėmimo į dangų
bažnyčia (Pranciškonų g. 1, Vilnius).
Po didžiulės publikos sėkmės per pastaruosius trejus metus šiame
naujame muzikiniame eksperimente džiaugiamės galėdami pristatyti
ketvirtąjį festivalio „Muzika sename vienuolyne“ sezoną – vargonų
muziką ir ne tik!
Pagrindiniu festivalio akcentu išliks nauji, tačiau visame pasaulyje jau
išgarsėję neobarokiniai „Didieji Mėlynieji“ vargonai, esantys
nuostabioje, istorinėje Vilniaus centre įsikūrusioje Švč. Mergelės
Marijos Ėmimo į dangų bažnyčioje (Pranciškonų g. 1).
Jie skambės viename iš solinių koncertų, kurį atliks lenkų maestro
Romanas Peruckis (gegužės 2 d. – baroko muzika). Koncertą pristatys
populiari aktorė Gabija Jaraminaitė.
Trumpai tariant, festivalis žada daug žinomų atlikėjų ir puikios
muzikos!
Festivalio rėmėjai ir partneriai: Italijos ambasada Vilniuje, Italų
kultūros centras Vilniuje, Lenkijos institutas Vilniuje, Vilniaus
kultūros ir dvasingumo centras, Ukrainos centras Vilniuje, Italijos vyno
gamintojas „Carminucci“.
Visi koncertai prasideda 20 val. Įėjimas nemokamas, tačiau
organizatoriai būtų dėkingi už aukas koncertų metu, kurios bus skirtos
bažnyčios freskų restauracijai ir atlikėjų kelionės išlaidoms
padengti.
Prof. habil. dr. Roman PeruckiBaigė Gdansko Stanisławo Moniuszkos muzikos
akademiją, prof. Leono Batoro vargonų klasę (1986). Lankė meistriškumo
kursus Lenkijoje ir užsienyje. Nuo 1993 m. eina Gdansko Baltijos
filharmonijos generalinio direktoriaus pareigas. 1997 m. tapo Gdansko
muzikos akademijos profesoriumi, nuo 2012 m. vadovauja Vargonų, klavesino,
akordeono ir gitaros katedrai. Veda meistriškumo kursus įvairiose
šalyse, dėsto keliuose Lenkijos muzikos universitetuose ir mokyklose. Jo
auklėtiniai tapo daugybės tarptautinių vargonų konkursų laureatais.
Dalyvauja daugelio tarptautinių vargonų konkursų žiuri darbe. Yra
Olivos arkikatedros pirmasis vargonininkas.Atliko daugiau kaip 2500
rečitalių. Koncertavo garsiausiose pasaulio katedrose ir koncertų
salėse, pvz., Paryžiaus Dievo Motinos, Gento ir Briuselio katedrose.
Grojo beveik visose Europos šalyse, Kinijoje, Australijoje, Kanadoje, JAV
ir Pietų Amerikoje. Įrašė daugiau kaip 40 plokštelių – viena iš
jų tapo platininė, viena – auksinė.Už kūrybinę ir organizacinę
veiklą pelnė daugybę apdovanojimų, tarp kurių: Gdansko apdovanojimas
„Splendor Gedanensis“ (1999), aukso garbės ženklas „Nusipelnęs
Lenkijos kultūrai“ (2005), sidabro medalis „Gloria Artis“ (2007),
garbės ženklas „Pamario grifas“ (2007), Gdansko meno mylėtojų
draugijos apdovanojimas (2007). Be to, įvertintas aukščiausiais
popiežiaus apdovanojimais: kryžiumi „Pro Ecclesia et Pontifice“
(suteiktas Jono Pauliaus II) ir Šv. Silvestro ordinu (įteiktas Benedikto
XVI).
END:VEVENT
END:VCALENDAR